BEGIN:VCALENDAR
VERSION:2.0
PRODID:-//Squarespace Inc/Squarespace 6//v6//EN
BEGIN:VEVENT
UID:59190530e6f2e16ac85902dc@squarespace.com
DTSTAMP:20170515T013616Z
DTSTART:20170725T230000Z
DTEND:20170806T010000Z
SUMMARY:Chance to Ignite - Massive 
END:VEVENT
END:VCALENDAR
