BEGIN:VCALENDAR
VERSION:2.0
PRODID:-//Squarespace Inc/Squarespace 6//v6//EN
BEGIN:VEVENT
UID:5919036303596e0a6e5e7150@squarespace.com
DTSTAMP:20170515T012747Z
DTSTART:20170705T000000Z
DTEND:20170716T020000Z
SUMMARY:Jekyll & Hyde 
END:VEVENT
END:VCALENDAR
