BEGIN:VCALENDAR
VERSION:2.0
PRODID:-//Squarespace Inc/Squarespace 6//v6//EN
BEGIN:VEVENT
UID:596e9274a803bbaa436dbecf@squarespace.com
DTSTAMP:20170718T225924Z
DTSTART:20170814T230000Z
DTEND:20170815T000000Z
SUMMARY:The Legend of Zelda: Symphony of the Goddesses 
END:VEVENT
END:VCALENDAR
