BEGIN:VCALENDAR
VERSION:2.0
PRODID:-//Squarespace Inc/Squarespace 6//v6//EN
BEGIN:VEVENT
UID:596e9361db29d6a6e1d6afd9@squarespace.com
DTSTAMP:20170718T230529Z
DTSTART:20170802T233000Z
DTEND:20170813T003000Z
SUMMARY:The Effect
END:VEVENT
END:VCALENDAR
