BEGIN:VCALENDAR
VERSION:2.0
PRODID:-//Squarespace Inc/Squarespace 6//v6//EN
BEGIN:VEVENT
UID:59544493099c01adfc6372ff@squarespace.com
DTSTAMP:20170629T000902Z
DTSTART:20170823T000000Z
DTEND:20170903T013000Z
SUMMARY:Danny and The Deep Blue Sea
END:VEVENT
END:VCALENDAR
