BEGIN:VCALENDAR
VERSION:2.0
PRODID:-//Squarespace Inc/Squarespace 6//v6//EN
BEGIN:VEVENT
UID:5967037f29687fd301542f28@squarespace.com
DTSTAMP:20170713T052525Z
DTSTART:20170824T223000Z
DTEND:20170917T023000Z
SUMMARY:A Streetcar Named Desire 
END:VEVENT
END:VCALENDAR
