BEGIN:VCALENDAR
VERSION:2.0
PRODID:-//Squarespace Inc/Squarespace 6//v6//EN
BEGIN:VEVENT
UID:596e92eef9a61e233076fc14@squarespace.com
DTSTAMP:20170718T230127Z
DTSTART:20170829T230000Z
DTEND:20171021T000000Z
SUMMARY:That Bloody Woman
END:VEVENT
END:VCALENDAR
