BEGIN:VCALENDAR
VERSION:2.0
PRODID:-//Squarespace Inc/Squarespace 6//v6//EN
BEGIN:VEVENT
UID:5967003ab11be19ba60af083@squarespace.com
DTSTAMP:20170713T051222Z
DTSTART:20170830T130000Z
DTEND:20170925T020000Z
SUMMARY:Best Comedy Show on Earth with Best Foods Mayo 
END:VEVENT
END:VCALENDAR
