BEGIN:VCALENDAR
VERSION:2.0
PRODID:-//Squarespace Inc/Squarespace 6//v6//EN
BEGIN:VEVENT
UID:5966fec95016e11be56b5a89@squarespace.com
DTSTAMP:20170713T050735Z
DTSTART:20170914T130000Z
DTEND:20171002T020000Z
SUMMARY:International Cababret Festival 
END:VEVENT
END:VCALENDAR
