BEGIN:VCALENDAR
VERSION:2.0
PRODID:-//Squarespace Inc/Squarespace 6//v6//EN
BEGIN:VEVENT
UID:596e8fc5893fc01a29645884@squarespace.com
DTSTAMP:20170718T224848Z
DTSTART:20170922T230000Z
DTEND:20170923T000000Z
SUMMARY:Joel McHale
END:VEVENT
END:VCALENDAR
