BEGIN:VCALENDAR
VERSION:2.0
PRODID:-//Squarespace Inc/Squarespace 6//v6//EN
BEGIN:VEVENT
UID:59d17457197aea5596315efd@squarespace.com
DTSTAMP:20171001T230654Z
DTSTART:20170923T233000Z
DTEND:20171022T003000Z
SUMMARY:Frickin Dangerous Bro’s World Tour of Tāmaki Makaurau
END:VEVENT
END:VCALENDAR
