BEGIN:VCALENDAR
VERSION:2.0
PRODID:-//Squarespace Inc/Squarespace 6//v6//EN
BEGIN:VEVENT
UID:596e9129414fb54241be493b@squarespace.com
DTSTAMP:20170718T225508Z
DTSTART:20170924T230000Z
DTEND:20171001T000000Z
SUMMARY:Kevin Bridges
END:VEVENT
END:VCALENDAR
