BEGIN:VCALENDAR
VERSION:2.0
PRODID:-//Squarespace Inc/Squarespace 6//v6//EN
BEGIN:VEVENT
UID:59751d163e00be4843ecea46@squarespace.com
DTSTAMP:20170723T220638Z
DTSTART:20170905T233000Z
DTEND:20170910T023000Z
SUMMARY:Comedy Festival Returns 
END:VEVENT
END:VCALENDAR
