BEGIN:VCALENDAR
VERSION:2.0
PRODID:-//Squarespace Inc/Squarespace 6//v6//EN
BEGIN:VEVENT
UID:596e90a8579fb3a989fde680@squarespace.com
DTSTAMP:20170718T225159Z
DTSTART:20170906T230000Z
DTEND:20170907T000000Z
SUMMARY:My Favorite Murder 
END:VEVENT
END:VCALENDAR
